BEGIN:VCALENDAR
VERSION:2.0
PRODID:EVENTFROG//EVENT//ICAL
BEGIN:VEVENT
UID:20260425T110752Z-7446257430818728778@eventfrog.de
DTSTAMP:20260425T110752Z
DTSTART:20260426T170000Z
DTEND:20260426T190000Z
SUMMARY:Kakao-Zeremonie - Raum für dein inneres Leuchten
DESCRIPTION:Am 26.04.2026 vereint die Kakao-Zeremonie Herzmeditation, ätherische Öle und Achtsamkeit für deine innere Balance in Oldenburg.\n\nhttps://eventfrog.de/de/p/gesundheit-spiritualitaet/spiritualitaet/kakao-zeremonie-raum-fuer-dein-inneres-leuchten-7446257430818728778.html
LOCATION:Kleine Amalie
GEO:53.138820;8.220037
URL:https://eventfrog.de/de/p/gesundheit-spiritualitaet/spiritualitaet/kakao-zeremonie-raum-fuer-dein-inneres-leuchten-7446257430818728778.html
END:VEVENT
END:VCALENDAR