BEGIN:VCALENDAR
VERSION:2.0
PRODID:EVENTFROG//EVENT//ICAL
BEGIN:VEVENT
UID:20260421T151638Z-7446956045774145691@eventfrog.de
DTSTAMP:20260421T151638Z
DTSTART:20260612T173000Z
DTEND:20260612T190000Z
SUMMARY:Dominik Gaida präsentiert "Heute sind wir unsterblich"
DESCRIPTION:Spiegel Bestsellerautor Dominik Gaida präsentiert seinen queeren Roman "Heute sind wir unsterblich"\n\nhttps://eventfrog.de/de/p/theater-buehne/lesung/dominik-gaida-praesentiert-heute-sind-wir-unsterblich-7446956045774145691.html
LOCATION:Eppelheimer Buchladen
GEO:49.399870;8.630489
URL:https://eventfrog.de/de/p/theater-buehne/lesung/dominik-gaida-praesentiert-heute-sind-wir-unsterblich-7446956045774145691.html
END:VEVENT
END:VCALENDAR