BEGIN:VCALENDAR
VERSION:2.0
PRODID:EVENTFROG//EVENT//ICAL
BEGIN:VEVENT
UID:20260420T071841Z-7447193980578592536@eventfrog.de
DTSTAMP:20260420T071841Z
DTSTART:20260430T170000Z
DTEND:20260501T000000Z
SUMMARY:Tanz in den Mai
DESCRIPTION:"Tanz in den Mai" am 30.04.2024 auf dem Festplatz Sachsenwaldstraße 20 in Reinbek mit DJ Marco Riccardo im Festzelt ab 19 Uhr. Eintritt: 15,-.\n\nhttps://eventfrog.de/de/p/partys/pop-rock/tanz-in-den-mai-7447193980578592536.html
LOCATION:EKZ Sachsenwaldstr. 20 Schönningstedt
GEO:53.528006;10.251829
URL:https://eventfrog.de/de/p/partys/pop-rock/tanz-in-den-mai-7447193980578592536.html
END:VEVENT
END:VCALENDAR