BEGIN:VCALENDAR
VERSION:2.0
PRODID:EVENTFROG//EVENT//ICAL
BEGIN:VEVENT
UID:20260424T125335Z-7447294150804799378@eventfrog.de
DTSTAMP:20260424T125335Z
DTSTART:20260413T140000Z
DTEND:20260622T140000Z
SUMMARY:Geschichtsreise Seelisberg
DESCRIPTION:Schulreise 2026: Geschichtsreise Seelisberg\n\nhttps://eventfrog.de/de/p/diverses/geschichtsreise-seelisberg-7447294150804799378.html
LOCATION:Wird noch angekündigt
URL:https://eventfrog.de/de/p/diverses/geschichtsreise-seelisberg-7447294150804799378.html
END:VEVENT
END:VCALENDAR