BEGIN:VCALENDAR
VERSION:2.0
PRODID:EVENTFROG//EVENT//ICAL
BEGIN:VEVENT
UID:20260420T002206Z-7447398190742003871@eventfrog.de
DTSTAMP:20260420T002206Z
DTSTART:20260528T183000Z
SUMMARY:Hallenbeiz
DESCRIPTION:Hallenbeiz\n\nhttps://eventfrog.de/de/p/partys/hallenbeiz-7447398190742003871.html
LOCATION:Grabenhalle
GEO:47.427340;9.374160
URL:https://eventfrog.de/de/p/partys/hallenbeiz-7447398190742003871.html
END:VEVENT
END:VCALENDAR