BEGIN:VCALENDAR
VERSION:2.0
PRODID:EVENTFROG//EVENT//ICAL
BEGIN:VEVENT
UID:20260424T000932Z-7447550259352355657@eventfrog.de
DTSTAMP:20260424T000932Z
DTSTART:20260424T170000Z
SUMMARY:SAM Entertainment Annes Kampf - Anne Frank vs. Adolf Hitler
DESCRIPTION:Inszenierte Lesung über Anne Frank und Hitlers Ideologie: eindringlich, bewegend und aktuell. Mit Texten, Musik und starken Kontrasten zwischen Hoffnung und Grauen.\n\nhttps://eventfrog.de/de/p/theater-buehne/theater/sam-entertainment-annes-kampf-anne-frank-vs-adolf-hitler-7447550259352355657.html
LOCATION:Forum Velbert
GEO:51.341556;7.046657
URL:https://eventfrog.de/de/p/theater-buehne/theater/sam-entertainment-annes-kampf-anne-frank-vs-adolf-hitler-7447550259352355657.html
END:VEVENT
END:VCALENDAR