BEGIN:VCALENDAR
VERSION:2.0
PRODID:EVENTFROG//EVENT//ICAL
BEGIN:VEVENT
UID:20260422T115127Z-7447632811954015619@eventfrog.de
DTSTAMP:20260422T115127Z
DTSTART:20260510T160000Z
DTEND:20260510T183000Z
SUMMARY:TRIO SCHO
DESCRIPTION:Trio SCHO spielt im Theater Ost Lieder über Reisen, Abschied und Sehnsucht mit vielfältigen musikalischen Ausdrucksformen.\n\nhttps://eventfrog.de/de/p/konzerte/weitere-musikrichtungen/trio-scho-7447632811954015619.html
LOCATION:Theater Ost
GEO:52.433614;13.539208
URL:https://eventfrog.de/de/p/konzerte/weitere-musikrichtungen/trio-scho-7447632811954015619.html
END:VEVENT
END:VCALENDAR