BEGIN:VCALENDAR
VERSION:2.0
PRODID:EVENTFROG//EVENT//ICAL
BEGIN:VEVENT
UID:20260424T054404Z-7447642887037157502@eventfrog.de
DTSTAMP:20260424T054404Z
DTSTART:20260425T080000Z
DTEND:20260426T150000Z
SUMMARY:Frühlingsasustellung 2026
DESCRIPTION:Erleben Sie neue Automower, Skoda ELROQ Probefahrten, Familienangebote und exklusive Aktionen an einem Frühlingsevent.\n\nhttps://eventfrog.de/de/p/wissenschaft-und-technik/fruehlingsasustellung-2026-7447642887037157502.html
LOCATION:H.+E. Roth AG
GEO:47.616732;8.954136
URL:https://eventfrog.de/de/p/wissenschaft-und-technik/fruehlingsasustellung-2026-7447642887037157502.html
END:VEVENT
END:VCALENDAR