BEGIN:VCALENDAR
VERSION:2.0
PRODID:EVENTFROG//EVENT//ICAL
BEGIN:VEVENT
UID:20260421T180335Z-7447707931460501818@eventfrog.de
DTSTAMP:20260421T180335Z
DTSTART:20260726T110000Z
DTEND:20260726T140000Z
SUMMARY:Weinwanderung Bischofsberg in der Weinbergslage Johannisberg
DESCRIPTION:Die Rundtour führt  über den Weinlehrpfad in Radebeul zum Winzerhof Rößler mit Einkehr (wenn geöffnet) und vorbei an historischen Weingütern zurück.\n\nhttps://eventfrog.de/de/p/freizeit-ausfluege/wanderung/weinwanderung-bischofsberg-in-der-weinbergslage-johannisberg-7447707931460501818.html
LOCATION:Treffpunkt: Radebeul-Zitzschewig, Mittlere Bergstrasse 42
GEO:51.121184;13.605082
URL:https://eventfrog.de/de/p/freizeit-ausfluege/wanderung/weinwanderung-bischofsberg-in-der-weinbergslage-johannisberg-7447707931460501818.html
END:VEVENT
END:VCALENDAR