BEGIN:VCALENDAR
VERSION:2.0
PRODID:EVENTFROG//EVENT//ICAL
BEGIN:VEVENT
UID:20260424T052258Z-7447765654109712991@eventfrog.de
DTSTAMP:20260424T052258Z
DTSTART:20260424T170000Z
SUMMARY:Mystik und Musik
DESCRIPTION:Saint-Saëns, Mendelssohn u.a. im Wechsel mit myst. Texten\n\nhttps://eventfrog.de/de/p/konzerte/mystik-und-musik-7447765654109712991.html
LOCATION:Evangelische Kirche Teufen
GEO:47.389967;9.387559
URL:https://eventfrog.de/de/p/konzerte/mystik-und-musik-7447765654109712991.html
END:VEVENT
END:VCALENDAR