BEGIN:VCALENDAR
VERSION:2.0
PRODID:EVENTFROG//EVENT//ICAL
BEGIN:VEVENT
UID:20260424T233859Z-7447846197291676838@eventfrog.de
DTSTAMP:20260424T233859Z
DTSTART:20261002T180000Z
SUMMARY:Fabio Landert - Die verbotene Frucht
DESCRIPTION:Sind Sie bereit, sich fallen zu lassen und die verbotene Frucht zu kosten?\n\n\nhttps://eventfrog.de/de/p/theater-buehne/comedy-kabarett/fabio-landert-die-verbotene-frucht-7447846197291676838.html
LOCATION:Theater Fauteuil - Tabourettli
GEO:47.557349;7.586407
URL:https://eventfrog.de/de/p/theater-buehne/comedy-kabarett/fabio-landert-die-verbotene-frucht-7447846197291676838.html
END:VEVENT
END:VCALENDAR