BEGIN:VCALENDAR
VERSION:2.0
PRODID:EVENTFROG//EVENT//ICAL
BEGIN:VEVENT
UID:20260424T152941Z-7447920636645609898@eventfrog.de
DTSTAMP:20260424T152941Z
DTSTART:20261101T090000Z
DTEND:20261101T120000Z
SUMMARY:Tesla Owners Switzerland Coffee Hour
DESCRIPTION:Tesla Owners Switzerland Coffee-Hour, jeden 1. Sonntag im Monat beim SuC in Dietikon\n\nhttps://eventfrog.de/de/p/wissenschaft-und-technik/tesla-owners-switzerland-coffee-hour-7447920636645609898.html
LOCATION:Tesla Supercharger Dietikon
GEO:47.418345;8.396499
URL:https://eventfrog.de/de/p/wissenschaft-und-technik/tesla-owners-switzerland-coffee-hour-7447920636645609898.html
END:VEVENT
END:VCALENDAR