BEGIN:VCALENDAR
VERSION:2.0
PRODID:EVENTFROG//EVENT//ICAL
BEGIN:VEVENT
UID:20260424T110617Z-7447921725604415268@eventfrog.de
DTSTAMP:20260424T110617Z
DTSTART:20261112T170000Z
DTEND:20261112T200000Z
SUMMARY:Tesla Owners Switzerland - Community MeetUp Region Zürich
DESCRIPTION:Treffpunkt im Restaurant für Tesla Clubmitglieder und Elektromobilitäts-Interessierte mit Beisammensein, Referaten und News jeden zweiten Donnerstag.\n\nhttps://eventfrog.de/de/p/essen-trinken/tesla-owners-switzerland-community-meetup-region-zuerich-7447921725604415268.html
LOCATION:Restaurant "im Speck"
GEO:47.375475;8.761615
URL:https://eventfrog.de/de/p/essen-trinken/tesla-owners-switzerland-community-meetup-region-zuerich-7447921725604415268.html
END:VEVENT
END:VCALENDAR