BEGIN:VCALENDAR
VERSION:2.0
PRODID:EVENTFROG//EVENT//ICAL
BEGIN:VEVENT
UID:20260422T112625Z-7447959847197264204@eventfrog.de
DTSTAMP:20260422T112625Z
DTSTART:20260512T100000Z
DTEND:20260512T160000Z
SUMMARY:Walid Raad: Like a rubber rung on a ladder
DESCRIPTION:Die Galerie Thomas Schulte zeigt im Corner Space sowie im danebenliegenden Raum mit Schaufenstern zur Straße Like a rubber rung on a ladder, eine Einzelausstellung von Walid Raad.\n\nhttps://eventfrog.de/de/p/kunst-ausstellungen/ausstellung/walid-raad-like-a-rubber-rung-on-a-ladder-7447959847197264204.html
LOCATION:Galerie Thomas Schulte
GEO:52.510226;13.392153
URL:https://eventfrog.de/de/p/kunst-ausstellungen/ausstellung/walid-raad-like-a-rubber-rung-on-a-ladder-7447959847197264204.html
END:VEVENT
END:VCALENDAR