BEGIN:VCALENDAR
VERSION:2.0
PRODID:EVENTFROG//EVENT//ICAL
BEGIN:VEVENT
UID:20260422T112316Z-7447961098093915775@eventfrog.de
DTSTAMP:20260422T112316Z
DTSTART:20260520T100000Z
DTEND:20260520T160000Z
SUMMARY:Jonathan Lasker: Double Play
DESCRIPTION:Mit Double Play präsentiert die Galerie Thomas Schulte die sechste Einzelausstellung von Jonathan Lasker.\n\nhttps://eventfrog.de/de/p/kunst-ausstellungen/ausstellung/jonathan-lasker-double-play-7447961098093915775.html
LOCATION:Galerie Thomas Schulte
GEO:52.510226;13.392153
URL:https://eventfrog.de/de/p/kunst-ausstellungen/ausstellung/jonathan-lasker-double-play-7447961098093915775.html
END:VEVENT
END:VCALENDAR