BEGIN:VCALENDAR
VERSION:2.0
PRODID:EVENTFROG//EVENT//ICAL
BEGIN:VEVENT
UID:20260422T112502Z-7447962108694656569@eventfrog.de
DTSTAMP:20260422T112502Z
DTSTART:20260516T100000Z
DTEND:20260516T160000Z
SUMMARY:José Montealegre: Drastic Measures
DESCRIPTION:José Montealegres zweite Einzelausstellung in der Galerie Thomas Schulte.\n\nhttps://eventfrog.de/de/p/kunst-ausstellungen/ausstellung/jose-montealegre-drastic-measures-7447962108694656569.html
LOCATION:Galerie Thomas Schulte
GEO:52.500187;13.363156
URL:https://eventfrog.de/de/p/kunst-ausstellungen/ausstellung/jose-montealegre-drastic-measures-7447962108694656569.html
END:VEVENT
END:VCALENDAR