BEGIN:VCALENDAR
VERSION:2.0
PRODID:EVENTFROG//EVENT//ICAL
BEGIN:VEVENT
UID:20260425T010517Z-7447968396954573360@eventfrog.de
DTSTAMP:20260425T010517Z
DTSTART:20260426T090000Z
DTEND:20260426T160000Z
SUMMARY:Haus A rt, offene Ateliers im Haus A der Reismühle Gauting
DESCRIPTION:HausArt in der Reismühle Gauting,\nOffene Ateliers, am 24. Und 25. April 2026, Öffnungszeiten: Sa 11-18 Uhr, So 11-18 Uhr\n\nhttps://eventfrog.de/de/p/kunst-ausstellungen/ausstellung/haus-a-rt-offene-ateliers-im-haus-a-der-reismuehle-gauting-7447968396954573360.html
LOCATION:Reismühle Gauting
GEO:48.069684;11.378409
URL:https://eventfrog.de/de/p/kunst-ausstellungen/ausstellung/haus-a-rt-offene-ateliers-im-haus-a-der-reismuehle-gauting-7447968396954573360.html
END:VEVENT
END:VCALENDAR