BEGIN:VCALENDAR
VERSION:2.0
PRODID:EVENTFROG//EVENT//ICAL
BEGIN:VEVENT
UID:20260425T133437Z-7447984037606484929@eventfrog.de
DTSTAMP:20260425T133437Z
DTSTART:20260425T173000Z
DTEND:20260425T210000Z
SUMMARY:Ostrock in der Lutherkirche in Eggesin
DESCRIPTION:Ein Konzert in besonderer Atmosphäre mit besonderer Akustik.\n\nhttps://eventfrog.de/de/p/konzerte/pop-rock/ostrock-in-der-lutherkirche-in-eggesin-7447984037606484929.html
LOCATION:Lutherkirche Eggesin
GEO:53.681771;14.078112
URL:https://eventfrog.de/de/p/konzerte/pop-rock/ostrock-in-der-lutherkirche-in-eggesin-7447984037606484929.html
END:VEVENT
END:VCALENDAR