BEGIN:VCALENDAR
VERSION:2.0
PRODID:EVENTFROG//EVENT//ICAL
BEGIN:VEVENT
UID:20260426T001747Z-7448013287650791956@eventfrog.de
DTSTAMP:20260426T001747Z
DTSTART:20260425T210000Z
SUMMARY:MixTape Party – Alternative 90’s
DESCRIPTION:Das Mystery Art Orchestra eröffnet um 20 Uhr, danach begeistern Alternative 90's-Sounds mit der MixTape Party im Haus der Offiziere.\n\nhttps://eventfrog.de/de/p/partys/90-s/mixtape-party-alternative-90s-7448013287650791956.html
LOCATION:Haus der Offiziere
GEO:52.412465;12.539366
URL:https://eventfrog.de/de/p/partys/90-s/mixtape-party-alternative-90s-7448013287650791956.html
END:VEVENT
END:VCALENDAR