BEGIN:VCALENDAR
VERSION:2.0
PRODID:EVENTFROG//EVENT//ICAL
BEGIN:VEVENT
UID:20260422T114245Z-7448018012362292791@eventfrog.de
DTSTAMP:20260422T114245Z
DTSTART:20260619T200000Z
DTEND:20260620T040000Z
SUMMARY:ODUMODUBLVCK Live In Berlin
DESCRIPTION:ODUMODUBLVCK verbindet Afrobeat und Hip-Hop in einer energiegeladenen Live-Show mit DJs in Berlin.\n\nhttps://eventfrog.de/en/p/concerts/other-music-genres/odumodublvck-live-in-berlin-7448018012362292791.html
LOCATION:MAAYA BERLIN
GEO:52.507507;13.452739
URL:https://eventfrog.de/en/p/concerts/other-music-genres/odumodublvck-live-in-berlin-7448018012362292791.html
END:VEVENT
END:VCALENDAR