BEGIN:VCALENDAR
VERSION:2.0
PRODID:EVENTFROG//EVENT//ICAL
BEGIN:VEVENT
UID:20260422T182644Z-7448053059291232597@eventfrog.de
DTSTAMP:20260422T182644Z
DTSTART:20260513T180000Z
SUMMARY:WIR SIND DIE NEUEN - Theaterkomödie
DESCRIPTION:Gesellschaftskomödie mit viel Humor über das Leben zweier unterschiedlicher Wohngemeinschaften.\nAlthippies treffen auf spießige Studenten.\n\nhttps://eventfrog.de/de/p/theater-buehne/buehnenveranstaltung/wir-sind-die-neuen-theaterkomoedie-7448053059291232597.html
LOCATION:Ludwigstraße 73
GEO:48.240930;12.686818
URL:https://eventfrog.de/de/p/theater-buehne/buehnenveranstaltung/wir-sind-die-neuen-theaterkomoedie-7448053059291232597.html
END:VEVENT
END:VCALENDAR