BEGIN:VCALENDAR
VERSION:2.0
PRODID:EVENTFROG//EVENT//ICAL
BEGIN:VEVENT
UID:20260422T184518Z-7448086757491360433@eventfrog.de
DTSTAMP:20260422T184518Z
DTSTART:20260507T173000Z
DTEND:20260507T183000Z
SUMMARY:Raubkatzen
DESCRIPTION:Die Freifach Theater AG Turgi präsentiert ein Stück, das Cats-Gedichte mit einer Kriminalgeschichte um Katzen und Kunst verknüpft.\n\nhttps://eventfrog.de/de/p/theater-buehne/theater/raubkatzen-7448086757491360433.html
LOCATION:Bauernhaus an der Limmat
GEO:47.495100;8.252820
URL:https://eventfrog.de/de/p/theater-buehne/theater/raubkatzen-7448086757491360433.html
END:VEVENT
END:VCALENDAR