BEGIN:VCALENDAR
VERSION:2.0
PRODID:EVENTFROG//EVENT//ICAL
BEGIN:VEVENT
UID:20260419T193904Z-7448255881026757648@eventfrog.de
DTSTAMP:20260419T193904Z
DTSTART:20260516T080000Z
DTEND:20260516T160000Z
SUMMARY:25 Jahre Gartenträume auf dem Linslerhof
DESCRIPTION:Die Gartenträume-Gartenmesse zeigt über 80 Aussteller, kreative Aktionen und bietet eine botanische Führung mit Pflanzenarzt René Wadas.\n\nhttps://eventfrog.de/de/p/messen/gartenschau/25-jahre-gartentraeume-auf-dem-linslerhof-7448255881026757648.html
LOCATION:Linslerhof
GEO:49.251755;6.730406
URL:https://eventfrog.de/de/p/messen/gartenschau/25-jahre-gartentraeume-auf-dem-linslerhof-7448255881026757648.html
END:VEVENT
END:VCALENDAR