BEGIN:VCALENDAR
VERSION:2.0
PRODID:EVENTFROG//EVENT//ICAL
BEGIN:VEVENT
UID:20260424T101257Z-7448268002196234686@eventfrog.de
DTSTAMP:20260424T101257Z
DTSTART:20260530T120000Z
DTEND:20260530T150000Z
SUMMARY:Gestalte dein inneres Selbst – Kreatives Duft-Malatelier
DESCRIPTION:Im Workshop verbinden sich Malen, Meditation und ätherische Öle zur Selbsterforschung in Winterthur, kleine Gruppe, inkl. Material.\n\nhttps://eventfrog.de/de/p/kurse-seminare/sonstige-kurse-seminare/gestalte-dein-inneres-selbst-kreatives-duft-malatelier-7448268002196234686.html
LOCATION:Ref. Kirche Oberwinterthur, St. Arbogast
GEO:47.507090;8.755730
URL:https://eventfrog.de/de/p/kurse-seminare/sonstige-kurse-seminare/gestalte-dein-inneres-selbst-kreatives-duft-malatelier-7448268002196234686.html
END:VEVENT
END:VCALENDAR