BEGIN:VCALENDAR
VERSION:2.0
PRODID:EVENTFROG//EVENT//ICAL
BEGIN:VEVENT
UID:20260425T010518Z-7448295240996264062@eventfrog.de
DTSTAMP:20260425T010518Z
DTSTART:20260503T083000Z
DTEND:20260503T103000Z
SUMMARY:TOUCH MY SOUL – PATRIZIA CASAGRANDA
DESCRIPTION:Patrizia Casagranda präsentiert vom 19.4. bis 12.7.2026 Werke zu Empowerment und Diversity in einer vielschichtigen Ausstellung.\n\nhttps://eventfrog.de/de/p/kunst-ausstellungen/ausstellung/touch-my-soul-patrizia-casagranda-7448295240996264062.html
LOCATION:Galerie Kley
GEO:51.654380;7.837530
URL:https://eventfrog.de/de/p/kunst-ausstellungen/ausstellung/touch-my-soul-patrizia-casagranda-7448295240996264062.html
END:VEVENT
END:VCALENDAR