BEGIN:VCALENDAR
VERSION:2.0
PRODID:EVENTFROG//EVENT//ICAL
BEGIN:VEVENT
UID:20260420T183519Z-7448326624670434301@eventfrog.de
DTSTAMP:20260420T183519Z
DTSTART:20260501T090000Z
DTEND:20260501T150000Z
SUMMARY:Hemeraner Trödelmarkt FuZ
DESCRIPTION:Der Hemeraner Trödelmarkt in der Fussgängerzone öffnet von 11 bis 17 Uhr, der Standaufbau startet ab 7 Uhr.\n\nhttps://eventfrog.de/de/p/maerkte/flohmarkt/hemeraner-troedelmarkt-fuz-7448326624670434301.html
LOCATION:Hadamareplatz 44
GEO:51.385700;7.766160
URL:https://eventfrog.de/de/p/maerkte/flohmarkt/hemeraner-troedelmarkt-fuz-7448326624670434301.html
END:VEVENT
END:VCALENDAR