BEGIN:VCALENDAR
VERSION:2.0
PRODID:EVENTFROG//EVENT//ICAL
BEGIN:VEVENT
UID:20260419T195713Z-7448368806701827962@eventfrog.de
DTSTAMP:20260419T195713Z
DTSTART:20260422T153000Z
DTEND:20260422T163000Z
SUMMARY:"Frei atmen" - Schleimhäute stärken und Allergien lindern
DESCRIPTION:Gesundheitsvortrag zur Heuschnupfensaison am 22.04.2026 in der Praxis Theramedica: Schleimhäute stärken und Allergien natürlich lindern - Frei atmen!\n\nhttps://eventfrog.de/de/p/gesundheit-spiritualitaet/gesundheit-wohlbefinden/frei-atmen-schleimhaeute-staerken-und-allergien-lindern-7448368806701827962.html
LOCATION:Praxis Theramedica Heike Eikemeier
GEO:51.026317;12.442110
URL:https://eventfrog.de/de/p/gesundheit-spiritualitaet/gesundheit-wohlbefinden/frei-atmen-schleimhaeute-staerken-und-allergien-lindern-7448368806701827962.html
END:VEVENT
END:VCALENDAR