BEGIN:VCALENDAR
VERSION:2.0
PRODID:EVENTFROG//EVENT//ICAL
BEGIN:VEVENT
UID:20260424T110705Z-7448379011456055738@eventfrog.de
DTSTAMP:20260424T110705Z
DTSTART:20260618T190000Z
DTEND:20260618T230000Z
SUMMARY:Public Viewing- Fussball WM 2026- Schweizer Spiele
DESCRIPTION:Alle Schweizer WM-Spiele live in der Rythalle Solothurn ab 13. Juni, Türöffnung 18.30 Uhr, grosses Public Viewing mit Bar und Fan-Kiosk.\n\nhttps://eventfrog.de/de/p/diverses/public-viewing-fussball-wm-2026-schweizer-spiele-7448379011456055738.html
LOCATION:Rythalle Solothurn
GEO:47.209534;7.540494
URL:https://eventfrog.de/de/p/diverses/public-viewing-fussball-wm-2026-schweizer-spiele-7448379011456055738.html
END:VEVENT
END:VCALENDAR