BEGIN:VCALENDAR
VERSION:2.0
PRODID:EVENTFROG//EVENT//ICAL
BEGIN:VEVENT
UID:20260420T071829Z-7448394646621830527@eventfrog.de
DTSTAMP:20260420T071829Z
DTSTART:20260516T180000Z
DTEND:20260516T215900Z
SUMMARY:Tanzabend mit "Heppe & Claus"
DESCRIPTION:Ab 20 Uhr lädt das Duo Heppe & Claus zum Tanzabend mit Walzer bis Disco-Fox auf einer grossen Tanzfläche ein.\n\nhttps://eventfrog.de/de/p/partys/pop-rock/tanzabend-mit-heppe-claus-7448394646621830527.html
LOCATION:Gasthof Hirsch Betzigau
GEO:47.736180;10.380020
URL:https://eventfrog.de/de/p/partys/pop-rock/tanzabend-mit-heppe-claus-7448394646621830527.html
END:VEVENT
END:VCALENDAR