BEGIN:VCALENDAR
VERSION:2.0
PRODID:EVENTFROG//EVENT//ICAL
BEGIN:VEVENT
UID:20260421T011028Z-7448452968716703883@eventfrog.de
DTSTAMP:20260421T011028Z
DTSTART:20260425T170000Z
DTEND:20260426T000000Z
SUMMARY:Golden Night - Die Nacht der Legenden
DESCRIPTION:Am 25. April 2026 spielt die Showband Etival die Musik von SWR4 live in Baden Baden. Einlass 19 Uhr, Beginn 20 Uhr.\n\nhttps://eventfrog.de/de/p/partys/sonstige-partys/golden-night-die-nacht-der-legenden-7448452968716703883.html
LOCATION:Altes E-Werk
GEO:48.767102;8.228585
URL:https://eventfrog.de/de/p/partys/sonstige-partys/golden-night-die-nacht-der-legenden-7448452968716703883.html
END:VEVENT
END:VCALENDAR