BEGIN:VCALENDAR
VERSION:2.0
PRODID:EVENTFROG//EVENT//ICAL
BEGIN:VEVENT
UID:20260421T094352Z-7448734615450205899@eventfrog.de
DTSTAMP:20260421T094352Z
DTSTART:20260430T200000Z
DTEND:20260501T030000Z
SUMMARY:WELCOME TO 2016 PART 2
DESCRIPTION:Am 30.4.2026 startet im Viva Club Lörrach eine 2-Floor Tanz in den Mai Party mit DJ El Autentico und Zahnschmuck Lounge.\n\nhttps://eventfrog.de/de/p/partys/10-s/welcome-to-2016-part-2-7448734615450205899.html
LOCATION:VIVA CLUB BAR
GEO:47.608875;7.658364
URL:https://eventfrog.de/de/p/partys/10-s/welcome-to-2016-part-2-7448734615450205899.html
END:VEVENT
END:VCALENDAR