BEGIN:VCALENDAR
VERSION:2.0
PRODID:EVENTFROG//EVENT//ICAL
BEGIN:VEVENT
UID:20260420T071731Z-7449080523463373656@eventfrog.de
DTSTAMP:20260420T071731Z
DTSTART:20260516T190000Z
DTEND:20260517T000000Z
SUMMARY:Modern Rock mit DJane Mo
DESCRIPTION:Lust auf  Modern Rock? Dann bist du hier genau richtig! DJane Mo bringt mit einer kraftvollen Mischung aus Alternative und NuMetal die Tanzfläche zum Beben – von den 90ern bis heute.\n\nhttps://eventfrog.de/de/p/partys/pop-rock/modern-rock-mit-djane-mo-7449080523463373656.html
LOCATION:Belinda Discothek
GEO:49.004142;9.496766
URL:https://eventfrog.de/de/p/partys/pop-rock/modern-rock-mit-djane-mo-7449080523463373656.html
END:VEVENT
END:VCALENDAR