BEGIN:VCALENDAR
VERSION:2.0
PRODID:EVENTFROG//EVENT//ICAL
BEGIN:VEVENT
UID:20260426T033458Z-7449081362676492912@eventfrog.de
DTSTAMP:20260426T033458Z
DTSTART:20260502T173000Z
DTEND:20260502T200000Z
SUMMARY:Ronnie Sattler - "Hömma, gönnt Euch..."
DESCRIPTION:Björn Jung aus MÄDLESABEND ist Ronnie Sattler.\n\n„Hömma, gönnt euch!“ \nEin Mann, bei dem man sich sicher fühlt… wenn auch nur halbtags.\n\nhttps://eventfrog.de/de/p/theater-buehne/comedy-kabarett/ronnie-sattler-hoemma-goennt-euch-7449081362676492912.html
LOCATION:KatiElli Theater
GEO:51.628273;7.324352
URL:https://eventfrog.de/de/p/theater-buehne/comedy-kabarett/ronnie-sattler-hoemma-goennt-euch-7449081362676492912.html
END:VEVENT
END:VCALENDAR