BEGIN:VCALENDAR
VERSION:2.0
PRODID:EVENTFROG//EVENT//ICAL
BEGIN:VEVENT
UID:20260420T071829Z-7449081698703116655@eventfrog.de
DTSTAMP:20260420T071829Z
DTSTART:20260530T190000Z
DTEND:20260531T000000Z
SUMMARY:Old School Rock mit DJ Dirk
DESCRIPTION:Eine besondere Nacht mit zeitlosen Rock-Klassikern von Bands wie Led Zeppelin, Deep Purple, AC/DC und Pink Floyd erwartet euch! #OldSchoolRock #ClassicRockNight #RockParty\n\nhttps://eventfrog.de/de/p/partys/pop-rock/old-school-rock-mit-dj-dirk-7449081698703116655.html
LOCATION:Belinda Discothek
GEO:49.004142;9.496766
URL:https://eventfrog.de/de/p/partys/pop-rock/old-school-rock-mit-dj-dirk-7449081698703116655.html
END:VEVENT
END:VCALENDAR