BEGIN:VCALENDAR
VERSION:2.0
PRODID:EVENTFROG//EVENT//ICAL
BEGIN:VEVENT
UID:20260422T115240Z-7449135985844042140@eventfrog.de
DTSTAMP:20260422T115240Z
DTSTART:20260628T160000Z
DTEND:20260628T183000Z
SUMMARY:Die GrosseVoigt-Fagotterie
DESCRIPTION:Zwei Fagott-Solisten zeigen in Hans-Eckardt Wenzels Regie ein einzigartiges Musikkabarett mit Solos und Ensembles.\n\nhttps://eventfrog.de/de/p/konzerte/weitere-musikrichtungen/die-grossevoigt-fagotterie-7449135985844042140.html
LOCATION:Theater Ost
GEO:52.433614;13.539208
URL:https://eventfrog.de/de/p/konzerte/weitere-musikrichtungen/die-grossevoigt-fagotterie-7449135985844042140.html
END:VEVENT
END:VCALENDAR