BEGIN:VCALENDAR
VERSION:2.0
PRODID:EVENTFROG//EVENT//ICAL
BEGIN:VEVENT
UID:20260422T114244Z-7449148038541492957@eventfrog.de
DTSTAMP:20260422T114244Z
DTSTART:20260816T173000Z
DTEND:20260816T200000Z
SUMMARY:LART DE PASSAGE
DESCRIPTION:L'art de Passage präsentiert mit grosser Besetzung ein stilübergreifendes Konzert voller Improvisation, Leidenschaft und Klangvielfalt.\n\nhttps://eventfrog.de/de/p/konzerte/weitere-musikrichtungen/lart-de-passage-7449148038541492957.html
LOCATION:Theater Ost
GEO:52.433614;13.539208
URL:https://eventfrog.de/de/p/konzerte/weitere-musikrichtungen/lart-de-passage-7449148038541492957.html
END:VEVENT
END:VCALENDAR