BEGIN:VCALENDAR
VERSION:2.0
PRODID:EVENTFROG//EVENT//ICAL
BEGIN:VEVENT
UID:20260422T102848Z-7449166498852005541@eventfrog.de
DTSTAMP:20260422T102848Z
DTSTART:20260618T120000Z
DTEND:20260621T100000Z
SUMMARY:Indigenes Wissen:  Das Geheimnis deiner Plazenta
DESCRIPTION:Rückverbindung mit der Essenz deines Seins und damit mit deinem Lebensweg und deine Wurzeln unter Anleitung einer Hebamme und Medizinfrau des indigenen Volkes der Muisca aus Kolumbien.\n\nhttps://eventfrog.de/de/p/kurse-seminare/allgemeinbildung/indigenes-wissen-das-geheimnis-deiner-plazenta-7449166498852005541.html
LOCATION:Haus am See
GEO:47.674530;9.021117
URL:https://eventfrog.de/de/p/kurse-seminare/allgemeinbildung/indigenes-wissen-das-geheimnis-deiner-plazenta-7449166498852005541.html
END:VEVENT
END:VCALENDAR