BEGIN:VCALENDAR
VERSION:2.0
PRODID:EVENTFROG//EVENT//ICAL
BEGIN:VEVENT
UID:20260420T043000Z-7449187944307384070@eventfrog.de
DTSTAMP:20260420T043000Z
DTSTART:20260514T080000Z
DTEND:20260514T160000Z
SUMMARY:Tag der Feuerwehr Dreieich - 2026
DESCRIPTION:Tag der Feuerwehr - 14. Mai 2026 \nEndlich ist es wieder soweit! Das jährliche Highlight der Feuerwehr Dreieich-Sprendlingen – der Tag der Feuerwehr – steht wieder vor der Tür! \n\n\nhttps://eventfrog.de/de/p/freizeit-ausfluege/tag-der-offenen-tuer/tag-der-feuerwehr-dreieich-2026-7449187944307384070.html
LOCATION:Feuerwehr Dreieich-Sprendlingen
GEO:50.009753;8.696635
URL:https://eventfrog.de/de/p/freizeit-ausfluege/tag-der-offenen-tuer/tag-der-feuerwehr-dreieich-2026-7449187944307384070.html
END:VEVENT
END:VCALENDAR