BEGIN:VCALENDAR
VERSION:2.0
PRODID:EVENTFROG//EVENT//ICAL
BEGIN:VEVENT
UID:20260422T114245Z-7449199449312605471@eventfrog.de
DTSTAMP:20260422T114245Z
DTSTART:20260530T140000Z
DTEND:20260530T180000Z
SUMMARY:100 Jahre Pöbel Möbel - Gala
DESCRIPTION:Peer und Malte Göbel feiern mit Musik und Wegbegleitern ihr Jubiläum auf der Insel der Jugend. Konzerte, Moderation und Kuchen inklusive.\n\nhttps://eventfrog.de/de/p/konzerte/weitere-musikrichtungen/100-jahre-poebel-moebel-gala-7449199449312605471.html
LOCATION:Kulturhaus Insel Berlin
GEO:52.486780;13.480800
URL:https://eventfrog.de/de/p/konzerte/weitere-musikrichtungen/100-jahre-poebel-moebel-gala-7449199449312605471.html
END:VEVENT
END:VCALENDAR