BEGIN:VCALENDAR
VERSION:2.0
PRODID:EVENTFROG//EVENT//ICAL
BEGIN:VEVENT
UID:20260421T180201Z-7449371876353154779@eventfrog.de
DTSTAMP:20260421T180201Z
DTSTART:20260529T094500Z
DTEND:20260529T104500Z
SUMMARY:Inklusive Beauty: Make-up Workshop für blinde & sehbehindert
DESCRIPTION:Julia Fleck und Antonia Jansen bieten einen taktilen Make-up-Workshop für blinde und sehbehinderte Frauen mit alltagstauglichen Techniken.\n\nhttps://eventfrog.de/de/p/kurse-seminare/sonstige-kurse-seminare/inklusive-beauty-make-up-workshop-fuer-blinde-sehbehindert-7449371876353154779.html
LOCATION:Hybrid - Online oder im Kap Europa, Frankfurt
URL:https://eventfrog.de/de/p/kurse-seminare/sonstige-kurse-seminare/inklusive-beauty-make-up-workshop-fuer-blinde-sehbehindert-7449371876353154779.html
END:VEVENT
END:VCALENDAR