BEGIN:VCALENDAR
VERSION:2.0
PRODID:EVENTFROG//EVENT//ICAL
BEGIN:VEVENT
UID:20260421T180200Z-7449379948207288583@eventfrog.de
DTSTAMP:20260421T180200Z
DTSTART:20260529T104500Z
DTEND:20260529T111500Z
SUMMARY:Self-Service Kiosks: Accessible Design per EU Accessibility
DESCRIPTION:Matt Ater präsentiert Lösungen und ermöglicht mit Live-Demo und Praxisübungen zugängliche Self-Service-Kioske am 29.05.2026.\n\nhttps://eventfrog.de/de/p/kurse-seminare/sonstige-kurse-seminare/self-service-kiosks-accessible-design-per-eu-accessibility-7449379948207288583.html
LOCATION:Hybrid - Online oder im Kap Europa, Frankfurt
URL:https://eventfrog.de/de/p/kurse-seminare/sonstige-kurse-seminare/self-service-kiosks-accessible-design-per-eu-accessibility-7449379948207288583.html
END:VEVENT
END:VCALENDAR