BEGIN:VCALENDAR
VERSION:2.0
PRODID:EVENTFROG//EVENT//ICAL
BEGIN:VEVENT
UID:20260420T120312Z-7449424989940414206@eventfrog.de
DTSTAMP:20260420T120312Z
DTSTART:20260619T173000Z
SUMMARY:Fürobe ir Stadtchile - Nordische Klangwelten
DESCRIPTION:René Perler (Bassbariton), Daniela Bertschinger (Violine) und Nadia Bacchetta an der historischen Kuhn-Orgel spielen skandinavische Musik aus Pop, Folk und Romantik.  Eintritt frei - Kollekte. \n\nhttps://eventfrog.de/de/p/konzerte/weitere-musikrichtungen/fuerobe-ir-stadtchile-nordische-klangwelten-7449424989940414206.html
LOCATION:Reformierte Stadtkirche
GEO:47.210181;7.533402
URL:https://eventfrog.de/de/p/konzerte/weitere-musikrichtungen/fuerobe-ir-stadtchile-nordische-klangwelten-7449424989940414206.html
END:VEVENT
END:VCALENDAR