BEGIN:VCALENDAR
VERSION:2.0
PRODID:EVENTFROG//EVENT//ICAL
BEGIN:VEVENT
UID:20260422T114244Z-7449464564071029796@eventfrog.de
DTSTAMP:20260422T114244Z
DTSTART:20261107T183000Z
DTEND:20261107T210000Z
SUMMARY:EISBRENNER und Deutschland. Ein Wintermärchen
DESCRIPTION:Tino Eisbrenner interpretiert Heines satirisches Versepos mit Liedern zu Freiheit und Widerstand in einer politischen Konzertlesung.\n\nhttps://eventfrog.de/de/p/konzerte/weitere-musikrichtungen/eisbrenner-und-deutschland-ein-wintermaerchen-7449464564071029796.html
LOCATION:Theater Ost
GEO:52.433614;13.539208
URL:https://eventfrog.de/de/p/konzerte/weitere-musikrichtungen/eisbrenner-und-deutschland-ein-wintermaerchen-7449464564071029796.html
END:VEVENT
END:VCALENDAR