BEGIN:VCALENDAR
VERSION:2.0
PRODID:EVENTFROG//EVENT//ICAL
BEGIN:VEVENT
UID:20260424T081948Z-7449494557375373883@eventfrog.de
DTSTAMP:20260424T081948Z
DTSTART:20260516T200000Z
DTEND:20260517T023000Z
SUMMARY:Brisa Brasileira
DESCRIPTION:Erlebe im Candela Club mit Nelio Real, der beste Pagode live Show in Basel. DJ Lay.dee und Hendryo bringen zusätzlich heisse Beats, und pure Brazil vibes für eine unvergessliche Nacht.\n\nhttps://eventfrog.de/de/p/partys/mottoparty/brisa-brasileira-7449494557375373883.html
LOCATION:Wird noch angekündigt
URL:https://eventfrog.de/de/p/partys/mottoparty/brisa-brasileira-7449494557375373883.html
END:VEVENT
END:VCALENDAR