BEGIN:VCALENDAR
VERSION:2.0
PRODID:EVENTFROG//EVENT//ICAL
BEGIN:VEVENT
UID:20260422T181528Z-7449504940878236965@eventfrog.de
DTSTAMP:20260422T181528Z
DTSTART:20260511T150000Z
DTEND:20260511T180000Z
SUMMARY:Magic Modern Monday - Mai
DESCRIPTION:Modern Constructed Event mit Anmeldung um 16:30 Uhr. Startgeld 7,00 . Preise für Teilnehmer. Drei Runden. Zu spät kommen bedeutet Ausschluss.\n\nhttps://eventfrog.de/de/p/freizeit-ausfluege/gruppen-spiele/magic-modern-monday-mai-7449504940878236965.html
LOCATION:FUNtainment Berlin
GEO:52.514541;13.469291
URL:https://eventfrog.de/de/p/freizeit-ausfluege/gruppen-spiele/magic-modern-monday-mai-7449504940878236965.html
END:VEVENT
END:VCALENDAR