BEGIN:VCALENDAR
VERSION:2.0
PRODID:EVENTFROG//EVENT//ICAL
BEGIN:VEVENT
UID:20260419T154445Z-7449522378374183574@eventfrog.de
DTSTAMP:20260419T154445Z
DTSTART:20260510T170000Z
DTEND:20260510T200000Z
SUMMARY:Saloppe SalsaTanzAbend - Salsa, Rueda, Bachata, Kizomba
DESCRIPTION:Getanzt wird u.a. Salsa, Rueda, Bachata oder Kizomba. Die Veranstaltung findet auf der Terrasse bzw. im Tanzraum statt.\n\nhttps://eventfrog.de/de/p/partys/swing/saloppe-salsatanzabend-salsa-rueda-bachata-kizomba-7449522378374183574.html
LOCATION:Saloppe Sommerwirtschaft
GEO:51.065420;13.790710
URL:https://eventfrog.de/de/p/partys/swing/saloppe-salsatanzabend-salsa-rueda-bachata-kizomba-7449522378374183574.html
END:VEVENT
END:VCALENDAR