BEGIN:VCALENDAR
VERSION:2.0
PRODID:EVENTFROG//EVENT//ICAL
BEGIN:VEVENT
UID:20260421T163245Z-7449562559202483138@eventfrog.de
DTSTAMP:20260421T163245Z
DTSTART:20270506T100000Z
DTEND:20270508T210000Z
SUMMARY:VATERTAGS ROCK WEEKEND 2027 OPEN AIR FESTIVAL // MERENBERG
DESCRIPTION: Vatertags Rockweekend 2027 in Merenberg, 06.–08. Mai: 3 Tage Rock, Tribute-Bands, Live-Musik &\nFestivalstimmung. Mit FEUERENGEL, A.D.I.O.Z & LAMETTICA mit Camping vor Ort – jetzt Tickets sichern!\n\nhttps://eventfrog.de/de/p/konzerte/hard-rock-heavy-metal/vatertags-rock-weekend-2027-open-air-festival-merenberg-7449562559202483138.html
LOCATION:Festplatz Dorfgemeinschaftshaus Barig-Selbenhausen
GEO:50.521866;8.202354
URL:https://eventfrog.de/de/p/konzerte/hard-rock-heavy-metal/vatertags-rock-weekend-2027-open-air-festival-merenberg-7449562559202483138.html
END:VEVENT
END:VCALENDAR