BEGIN:VCALENDAR
VERSION:2.0
PRODID:EVENTFROG//EVENT//ICAL
BEGIN:VEVENT
UID:20260421T135526Z-7449572268257060653@eventfrog.de
DTSTAMP:20260421T135526Z
DTSTART:20260507T173000Z
DTEND:20260507T193000Z
SUMMARY:Ostensibles: Of Blind Dates, Breakups, and Bad Decisions
DESCRIPTION:Die Ostensibles präsentieren drei kurze Theaterstücke auf Englisch und dazu Improvisationstheater,\n\nhttps://eventfrog.de/de/p/theater-buehne/theater/ostensibles-of-blind-dates-breakups-and-bad-decisions-7449572268257060653.html
LOCATION:Haus der Jugend
GEO:52.277860;8.039728
URL:https://eventfrog.de/de/p/theater-buehne/theater/ostensibles-of-blind-dates-breakups-and-bad-decisions-7449572268257060653.html
END:VEVENT
END:VCALENDAR