BEGIN:VCALENDAR
VERSION:2.0
PRODID:EVENTFROG//EVENT//ICAL
BEGIN:VEVENT
UID:20260421T180241Z-7449715874154454217@eventfrog.de
DTSTAMP:20260421T180241Z
DTSTART:20260529T113000Z
DTEND:20260529T123000Z
SUMMARY:Travel Tech Toolkit: Apps & AI for Blind Travelers
DESCRIPTION:Milagros Constabel zeigt am 29.5. praktische Travel-Tech für blinde Reisende in Flughäfen, Transit und Städten, vor Ort & online.\n\nhttps://eventfrog.de/de/p/kurse-seminare/sonstige-kurse-seminare/travel-tech-toolkit-apps-ai-for-blind-travelers-7449715874154454217.html
LOCATION:Hybrid - Online oder im Kap Europa, Frankfurt
URL:https://eventfrog.de/de/p/kurse-seminare/sonstige-kurse-seminare/travel-tech-toolkit-apps-ai-for-blind-travelers-7449715874154454217.html
END:VEVENT
END:VCALENDAR