BEGIN:VCALENDAR
VERSION:2.0
PRODID:EVENTFROG//EVENT//ICAL
BEGIN:VEVENT
UID:20260420T084836Z-7449747295648621710@eventfrog.de
DTSTAMP:20260420T084836Z
DTSTART:20260508T170000Z
DTEND:20260508T200000Z
SUMMARY:Romy, la mer et la musique
DESCRIPTION:Jakob Gühring verbindet Stimmen und Chansons zu einer facettenreichen Hommage an Romy Schneider und den Mittelmeerraum.\n\nhttps://eventfrog.de/de/p/konzerte/a-cappella-vocal/romy-la-mer-et-la-musique-7449747295648621710.html
LOCATION:brenn:werk eG
GEO:53.286015;12.964184
URL:https://eventfrog.de/de/p/konzerte/a-cappella-vocal/romy-la-mer-et-la-musique-7449747295648621710.html
END:VEVENT
END:VCALENDAR